BEGIN:VCALENDAR
VERSION:2.0
PRODID:-//wp-events-plugin.com//7.2.2.1//EN
TZID:America/Chicago
X-WR-TIMEZONE:America/Chicago
BEGIN:VEVENT
UID:40@ezticketz.com
DTSTART;TZID=America/Chicago:20260523T160000
DTEND;TZID=America/Chicago:20260523T230000
DTSTAMP:20260423T160453Z
URL:https://www.ezticketz.com/events/b96-mixmasters-reunion-vol-2-at-found
 ers-square-amphitheater/
SUMMARY:B96 Mixmasters Reunion Vol. 2 at Founders Square Amphitheater
DESCRIPTION:Get ready for an unforgettable night as Ready to Live presents 
 the B96 Mixmasters Reunion Vol. 2\, bringing together the full lineup of l
 egendary Mixmasters along with special guest hosts for a one-of-a-kind reu
 nion experience. Held at the Founders Square Amphitheater in Portage\, Ind
 iana\, this high-energy event celebrates the start of summer with iconic m
 usic\, vibrant atmosphere\, and a crowd ready to party. Open to all ages\,
  with drinks available for guests 21 and over\, it’s the perfect way to 
 kick off the season with friends\, great vibes\, and classic sounds.
ATTACH;FMTTYPE=image/jpeg:https://www.ezticketz.com/wp-content/uploads/202
 6/04/F3E79AF5-55B2-421B-ACBF-5116842E6CAE.webp
LOCATION:Amphitheater at Founders Square\, 6300 W Main St\, Portage\, India
 na\, 46368\, United States
GEO:41.577573;-87.171541
X-APPLE-STRUCTURED-LOCATION;VALUE=URI;X-ADDRESS=6300 W Main St\, Portage\, 
 Indiana\, 46368\, United States;X-APPLE-RADIUS=100;X-TITLE=Amphitheater at
  Founders Square:geo:41.577573,-87.171541
END:VEVENT
BEGIN:VTIMEZONE
TZID:America/Chicago
X-LIC-LOCATION:America/Chicago
BEGIN:DAYLIGHT
DTSTART:20260308T030000
TZOFFSETFROM:-0600
TZOFFSETTO:-0500
TZNAME:CDT
END:DAYLIGHT
END:VTIMEZONE
END:VCALENDAR